BEGIN:VCALENDAR
VERSION:2.0
PRODID:-//hacksw/handcal//NONSGML v1.0//EN
CALSCALE:GREGORIAN
BEGIN:VEVENT
UID:69e68f9ecf567
DTSTART:20190324T193000Z
DTSTAMP:20260420T204206Z
DTEND:20190325T193000Z
LOCATION:Orlando
DESCRIPTION:Nano Tenchnology Event
URL;VALUE=URI:https://stemcell.conferenceseries.com/
SUMMARY:11th World Congress and Expo on  Cell & Stem Cell Research
END:VEVENT
END:VCALENDAR
