BEGIN:VCALENDAR
VERSION:2.0
PRODID:-//hacksw/handcal//NONSGML v1.0//EN
CALSCALE:GREGORIAN
BEGIN:VEVENT
UID:69e67c267f623
DTSTART:20190430T193000Z
DTSTAMP:20260420T191902Z
DTEND:20190501T193000Z
LOCATION:Kyoto
DESCRIPTION:Nano Tenchnology Event
URL;VALUE=URI:https://asiapacific.biotechnologycongress.com/
SUMMARY:25th Asia Pacific  Biotechnology Congress
END:VEVENT
END:VCALENDAR
