BEGIN:VCALENDAR
VERSION:2.0
PRODID:-//hacksw/handcal//NONSGML v1.0//EN
CALSCALE:GREGORIAN
BEGIN:VEVENT
UID:69e67c02d7ae8
DTSTART:20190423T193000Z
DTSTAMP:20260420T191826Z
DTEND:20190424T193000Z
LOCATION:Vancouver
DESCRIPTION:Nano Tenchnology Event
URL;VALUE=URI:https://regenerative.conferenceseries.com/
SUMMARY:13th International Conference on  Tissue Science \, Engineeri
 ing\, Regenerative Medicine & Bio Banking
END:VEVENT
END:VCALENDAR
