BEGIN:VCALENDAR
VERSION:2.0
PRODID:-//hacksw/handcal//NONSGML v1.0//EN
CALSCALE:GREGORIAN
BEGIN:VEVENT
UID:69e67bedcfa62
DTSTART:20190430T193000Z
DTSTAMP:20260420T191805Z
DTEND:20190501T193000Z
LOCATION:Seoul
DESCRIPTION:Nano Tenchnology Event
URL;VALUE=URI:https://molecular-biology.plantscienceconferences.com/
SUMMARY:7th Asia Pacific Plant Biology and Plant Science Congress
END:VEVENT
END:VCALENDAR
