BEGIN:VCALENDAR
VERSION:2.0
PRODID:-//hacksw/handcal//NONSGML v1.0//EN
CALSCALE:GREGORIAN
BEGIN:VEVENT
UID:69e63b88c0ce5
DTSTART:20191215T203000Z
DTSTAMP:20260420T144320Z
DTEND:20191216T203000Z
LOCATION:Dubai
DESCRIPTION:Nano Tenchnology Event
URL;VALUE=URI:https://medical.physicsmeeting.com/
SUMMARY:International Conference on  Bio and Medical Physics
END:VEVENT
END:VCALENDAR
