BEGIN:VCALENDAR
VERSION:2.0
PRODID:-//hacksw/handcal//NONSGML v1.0//EN
CALSCALE:GREGORIAN
BEGIN:VEVENT
UID:69e64fb7656df
DTSTART:20191006T203000Z
DTSTAMP:20260420T160927Z
DTEND:20191007T203000Z
LOCATION:Chicago
DESCRIPTION:Nano Tenchnology Event
URL;VALUE=URI:https://condensedmatterphysics.conferenceseries.com/
SUMMARY:6th International Conference on  Theoretical\, Materials and 
  Condensed Matter Physics
END:VEVENT
END:VCALENDAR
