BEGIN:VCALENDAR
VERSION:2.0
PRODID:-//hacksw/handcal//NONSGML v1.0//EN
CALSCALE:GREGORIAN
BEGIN:VEVENT
UID:69e64fb6d52b6
DTSTART:20191013T203000Z
DTSTAMP:20260420T160926Z
DTEND:20191015T203000Z
LOCATION:London
DESCRIPTION:Nano Tenchnology Event
URL;VALUE=URI:https://europe.physicsmeeting.com/
SUMMARY:5th International Conference on  Physics
END:VEVENT
END:VCALENDAR
