BEGIN:VCALENDAR
VERSION:2.0
PRODID:-//hacksw/handcal//NONSGML v1.0//EN
CALSCALE:GREGORIAN
BEGIN:VEVENT
UID:69e664fae9997
DTSTART:20190801T193000Z
DTSTAMP:20260420T174010Z
DTEND:20190802T193000Z
LOCATION:Chicago
DESCRIPTION:Nano Tenchnology Event
URL;VALUE=URI:https://app-physics.physicsmeeting.com/
SUMMARY:Global Summit on  Applied Physics and Computational Mathemati
 ics
END:VEVENT
END:VCALENDAR
