BEGIN:VCALENDAR
VERSION:2.0
PRODID:-//hacksw/handcal//NONSGML v1.0//EN
CALSCALE:GREGORIAN
BEGIN:VEVENT
UID:69e664ef852da
DTSTART:20190801T193000Z
DTSTAMP:20260420T173959Z
DTEND:20190802T193000Z
LOCATION:Chicago
DESCRIPTION:Nano Tenchnology Event
URL;VALUE=URI:https://atomic-nuclearphysics.conferenceseries.com/
SUMMARY:5th International Conference on  Atomic and Nuclear Physics
END:VEVENT
END:VCALENDAR
