BEGIN:VCALENDAR
VERSION:2.0
PRODID:-//hacksw/handcal//NONSGML v1.0//EN
CALSCALE:GREGORIAN
BEGIN:VEVENT
UID:69e64f963949a
DTSTART:20190818T193000Z
DTSTAMP:20260420T160854Z
DTEND:20190819T193000Z
LOCATION:Tokyo
DESCRIPTION:Nano Tenchnology Event
URL;VALUE=URI:https://physics.physicsmeeting.com/asiapacific/
SUMMARY:Asia Pacific Physics Conference
END:VEVENT
END:VCALENDAR
