BEGIN:VCALENDAR
VERSION:2.0
PRODID:-//hacksw/handcal//NONSGML v1.0//EN
CALSCALE:GREGORIAN
BEGIN:VEVENT
UID:69e64f97362d4
DTSTART:20190818T193000Z
DTSTAMP:20260420T160855Z
DTEND:20190819T193000Z
LOCATION:London
DESCRIPTION:Nano Tenchnology Event
URL;VALUE=URI:https://magneticmaterials.physicsmeeting.com/
SUMMARY:4th International Conference on  Magnetism and Magnetic Mater
 rials
END:VEVENT
END:VCALENDAR
