BEGIN:VCALENDAR
VERSION:2.0
PRODID:-//hacksw/handcal//NONSGML v1.0//EN
CALSCALE:GREGORIAN
BEGIN:VEVENT
UID:69e664f93da27
DTSTART:20190616T193000Z
DTSTAMP:20260420T174009Z
DTEND:20190617T193000Z
LOCATION:London
DESCRIPTION:Nano Tenchnology Event
URL;VALUE=URI:https://optics.physicsmeeting.com/
SUMMARY:12th International Conference on  Optics\, Photonics & Lasers
END:VEVENT
END:VCALENDAR
