BEGIN:VCALENDAR
VERSION:2.0
PRODID:-//hacksw/handcal//NONSGML v1.0//EN
CALSCALE:GREGORIAN
BEGIN:VEVENT
UID:69e67c02959e3
DTSTART:20190428T193000Z
DTSTAMP:20260420T191826Z
DTEND:20190429T193000Z
LOCATION:London
DESCRIPTION:Nano Tenchnology Event
URL;VALUE=URI:https://pharmaceuticalmicrobiology.microbiologyconferen
 nces.com/
SUMMARY:17th International Conference on  Pharmaceutical Microbiology
 y and Biotechnology
END:VEVENT
END:VCALENDAR
