BEGIN:VCALENDAR
VERSION:2.0
PRODID:-//hacksw/handcal//NONSGML v1.0//EN
CALSCALE:GREGORIAN
BEGIN:VEVENT
UID:69e664fb3e540
DTSTART:20190724T193000Z
DTSTAMP:20260420T174011Z
DTEND:20190726T193000Z
LOCATION:London
DESCRIPTION:Nano Tenchnology Event
URL;VALUE=URI:https://eurocancer.expertconferences.org/
SUMMARY:34th Euro-Global Summit on  Cancer Therapy & Radiation Oncolo
 ogy
END:VEVENT
END:VCALENDAR
