BEGIN:VCALENDAR
VERSION:2.0
PRODID:-//hacksw/handcal//NONSGML v1.0//EN
CALSCALE:GREGORIAN
BEGIN:VEVENT
UID:69e64fb739394
DTSTART:20190924T203000Z
DTSTAMP:20260420T160927Z
DTEND:20190925T203000Z
LOCATION:Toronto
DESCRIPTION:Nano Tenchnology Event
URL;VALUE=URI:https://worldoncology.cancersummit.org/
SUMMARY:World Cancer Research and Biomarkers Conference 2019
END:VEVENT
END:VCALENDAR
