BEGIN:VCALENDAR
VERSION:2.0
PRODID:-//hacksw/handcal//NONSGML v1.0//EN
CALSCALE:GREGORIAN
BEGIN:VEVENT
UID:69e58fb77d71c
DTSTART:20191009T203000Z
DTSTAMP:20260420T023015Z
DTEND:20191010T203000Z
LOCATION:Dublin
DESCRIPTION:Nano Tenchnology Event
URL;VALUE=URI:https://cancer.global-summit.com/
SUMMARY:37th World Cancer Conference
END:VEVENT
END:VCALENDAR
