BEGIN:VCALENDAR
VERSION:2.0
PRODID:-//hacksw/handcal//NONSGML v1.0//EN
CALSCALE:GREGORIAN
BEGIN:VEVENT
UID:69e63b882dbce
DTSTART:20191020T203000Z
DTSTAMP:20260420T144320Z
DTEND:20191021T203000Z
LOCATION:Helsinki
DESCRIPTION:Nano Tenchnology Event
URL;VALUE=URI:https://breast-cervical.cancersummit.org/
SUMMARY:4 th World Conference on  Breast and Cervical Cancer
END:VEVENT
END:VCALENDAR
