BEGIN:VCALENDAR
VERSION:2.0
PRODID:-//hacksw/handcal//NONSGML v1.0//EN
CALSCALE:GREGORIAN
BEGIN:VEVENT
UID:69e686c3b5526
DTSTART:20190219T203000Z
DTSTAMP:20260420T200419Z
DTEND:20190220T203000Z
LOCATION:San Francisco
DESCRIPTION:Nano Tenchnology Event
URL;VALUE=URI:https://cancer.global-summit.com/america/
SUMMARY:27th Annual Congress on  Cancer Science and Targeted Therapie
 es
END:VEVENT
END:VCALENDAR
