BEGIN:VCALENDAR
VERSION:2.0
PRODID:-//hacksw/handcal//NONSGML v1.0//EN
CALSCALE:GREGORIAN
BEGIN:VEVENT
UID:69e686d528344
DTSTART:20190306T203000Z
DTSTAMP:20260420T200437Z
DTEND:20190307T203000Z
LOCATION:Barcelona
DESCRIPTION:Nano Tenchnology Event
URL;VALUE=URI:https://cancerscience.insightconferences.com/
SUMMARY:32nd Euro Congress on  Cancer Science & Therapy
END:VEVENT
END:VCALENDAR
