BEGIN:VCALENDAR
VERSION:2.0
PRODID:-//hacksw/handcal//NONSGML v1.0//EN
CALSCALE:GREGORIAN
BEGIN:VEVENT
UID:69e67c25e4ce7
DTSTART:20190407T193000Z
DTSTAMP:20260420T191901Z
DTEND:20190408T193000Z
LOCATION:Abu Dhabi
DESCRIPTION:Nano Tenchnology Event
URL;VALUE=URI:https://radiology-oncology.annualcongress.com/
SUMMARY:3rd World Congress on  Radiology and Oncology
END:VEVENT
END:VCALENDAR
