BEGIN:VCALENDAR
VERSION:2.0
PRODID:-//hacksw/handcal//NONSGML v1.0//EN
CALSCALE:GREGORIAN
BEGIN:VEVENT
UID:69e68fa72fbb1
DTSTART:20190319T203000Z
DTSTAMP:20260420T204215Z
DTEND:20190320T203000Z
LOCATION:Paris
DESCRIPTION:Nano Tenchnology Event
URL;VALUE=URI:https://cancertreatment.cancersummit.org/
SUMMARY:2nd International Conference on  Cancer Diagnosis & Treatment
END:VEVENT
END:VCALENDAR
