BEGIN:VCALENDAR
VERSION:2.0
PRODID:-//hacksw/handcal//NONSGML v1.0//EN
CALSCALE:GREGORIAN
BEGIN:VEVENT
UID:69e67c440b092
DTSTART:20190428T193000Z
DTSTAMP:20260420T191932Z
DTEND:20190429T193000Z
LOCATION:Seoul
DESCRIPTION:Nano Tenchnology Event
URL;VALUE=URI:https://cancerscience.cancersummit.org/
SUMMARY:33rd Global Experts Meeting on  Cancer Science & Therapy
END:VEVENT
END:VCALENDAR
