BEGIN:VCALENDAR
VERSION:2.0
PRODID:-//hacksw/handcal//NONSGML v1.0//EN
CALSCALE:GREGORIAN
BEGIN:VEVENT
UID:69e64f977ff40
DTSTART:20190915T193000Z
DTSTAMP:20260420T160855Z
DTEND:20190916T193000Z
LOCATION:Rome
DESCRIPTION:Nano Tenchnology Event
URL;VALUE=URI:https://biosensors.conferenceseries.com/
SUMMARY:11th Euro Biosensors & Bioelectronics Congress
END:VEVENT
END:VCALENDAR
