BEGIN:VCALENDAR
VERSION:2.0
PRODID:-//hacksw/handcal//NONSGML v1.0//EN
CALSCALE:GREGORIAN
BEGIN:VEVENT
UID:69e63b888e45a
DTSTART:20191024T203000Z
DTSTAMP:20260420T144320Z
DTEND:20191025T203000Z
LOCATION:Vancouver
DESCRIPTION:Nano Tenchnology Event
URL;VALUE=URI:https://biosensors.conferenceseries.com/
SUMMARY:12th International Conference & Exhibition on  Biosensors & B
 Bioelectronics
END:VEVENT
END:VCALENDAR
