BEGIN:VCALENDAR
VERSION:2.0
PRODID:-//hacksw/handcal//NONSGML v1.0//EN
CALSCALE:GREGORIAN
BEGIN:VEVENT
UID:69e664faa00c8
DTSTART:20190609T193000Z
DTSTAMP:20260420T174010Z
DTEND:20190610T193000Z
LOCATION:Barcelona
DESCRIPTION:Nano Tenchnology Event
URL;VALUE=URI:https://windenergy.expertconferences.org/
SUMMARY:3rd World Congress on  Wind & Renewable Energy
END:VEVENT
END:VCALENDAR
