BEGIN:VCALENDAR
VERSION:2.0
PRODID:-//hacksw/handcal//NONSGML v1.0//EN
CALSCALE:GREGORIAN
BEGIN:VEVENT
UID:69e664ee0b217
DTSTART:20190619T193000Z
DTSTAMP:20260420T173958Z
DTEND:20190620T193000Z
LOCATION:Stockholm
DESCRIPTION:Nano Tenchnology Event
URL;VALUE=URI:https://buildingmaterials-technologies.enggconferences.
 .com/
SUMMARY:International Conference on  Building Materials & Constructio
 on Technologies
END:VEVENT
END:VCALENDAR
