BEGIN:VCALENDAR
VERSION:2.0
PRODID:-//hacksw/handcal//NONSGML v1.0//EN
CALSCALE:GREGORIAN
BEGIN:VEVENT
UID:69e67bedcfa3e
DTSTART:20190414T193000Z
DTSTAMP:20260420T191805Z
DTEND:20190415T193000Z
LOCATION:Hong Kong
DESCRIPTION:Nano Tenchnology Event
URL;VALUE=URI:https://electronicengineering.enggconferences.com/
SUMMARY:5th International Conference and Exhibition on  Nanotechnolog
 gy\, Artificial Intelligence and IOT
END:VEVENT
END:VCALENDAR
