BEGIN:VCALENDAR
VERSION:2.0
PRODID:-//hacksw/handcal//NONSGML v1.0//EN
CALSCALE:GREGORIAN
BEGIN:VEVENT
UID:69e67c023ec66
DTSTART:20190414T193000Z
DTSTAMP:20260420T191826Z
DTEND:20190415T193000Z
LOCATION:Amsterdam
DESCRIPTION:Nano Tenchnology Event
URL;VALUE=URI:https://euro3dprinting.conferenceseries.com/
SUMMARY:4th International Conference on  Advances in 3D Printing & Mo
 odelling
END:VEVENT
END:VCALENDAR
