BEGIN:VCALENDAR
VERSION:2.0
PRODID:-//hacksw/handcal//NONSGML v1.0//EN
CALSCALE:GREGORIAN
BEGIN:VEVENT
UID:69e64fb67cf71
DTSTART:20191006T203000Z
DTSTAMP:20260420T160926Z
DTEND:20191007T203000Z
LOCATION:Madrid
DESCRIPTION:Nano Tenchnology Event
URL;VALUE=URI:https://europe.plantscienceconferences.com/
SUMMARY:7th Global Summit on  Plant Science
END:VEVENT
END:VCALENDAR
