BEGIN:VCALENDAR
VERSION:2.0
PRODID:-//hacksw/handcal//NONSGML v1.0//EN
CALSCALE:GREGORIAN
BEGIN:VEVENT
UID:69e63bd5416a6
DTSTART:20191027T203000Z
DTSTAMP:20260420T144437Z
DTEND:20191028T203000Z
LOCATION:Tokyo
DESCRIPTION:Nano Tenchnology Event
URL;VALUE=URI:https://aqua.conferenceseries.com/
SUMMARY:13th World Congress on  Aquaculture & Fisheries
END:VEVENT
END:VCALENDAR
