BEGIN:VCALENDAR
VERSION:2.0
PRODID:-//hacksw/handcal//NONSGML v1.0//EN
CALSCALE:GREGORIAN
BEGIN:VEVENT
UID:69e6650f168a5
DTSTART:20190725T193000Z
DTSTAMP:20260420T174031Z
DTEND:20190726T193000Z
LOCATION:Vancouver
DESCRIPTION:Nano Tenchnology Event
URL;VALUE=URI:https://foodchemistry.conferenceseries.com/
SUMMARY:4th International Conference on  Food Chemistry & Nutrition
END:VEVENT
END:VCALENDAR
