BEGIN:VCALENDAR
VERSION:2.0
PRODID:-//hacksw/handcal//NONSGML v1.0//EN
CALSCALE:GREGORIAN
BEGIN:VEVENT
UID:69e6650f39fe4
DTSTART:20190725T193000Z
DTSTAMP:20260420T174031Z
DTEND:20190726T193000Z
LOCATION:Vancouver
DESCRIPTION:Nano Tenchnology Event
URL;VALUE=URI:https://foodprocessing.global-summit.com/
SUMMARY:22nd Global Summit on  Food Processing \, Safety and Technolo
 ogy
END:VEVENT
END:VCALENDAR
