BEGIN:VCALENDAR
VERSION:2.0
PRODID:-//hacksw/handcal//NONSGML v1.0//EN
CALSCALE:GREGORIAN
BEGIN:VEVENT
UID:69e64fb5264f2
DTSTART:20190926T203000Z
DTSTAMP:20260420T160925Z
DTEND:20190927T203000Z
LOCATION:Toronto
DESCRIPTION:Nano Tenchnology Event
URL;VALUE=URI:https://fisheries.conferenceseries.com/
SUMMARY:10th international conference on  Fisheries & Aquaculture
END:VEVENT
END:VCALENDAR
