BEGIN:VCALENDAR
VERSION:2.0
PRODID:-//hacksw/handcal//NONSGML v1.0//EN
CALSCALE:GREGORIAN
BEGIN:VEVENT
UID:69e67c43bd3b1
DTSTART:20190522T193000Z
DTSTAMP:20260420T191931Z
DTEND:20190523T193000Z
LOCATION:Paris
DESCRIPTION:Nano Tenchnology Event
URL;VALUE=URI:https://foodcongress.conferenceseries.com/
SUMMARY:2nd International Conference on  Food Processing\, Safety & P
 Packaging
END:VEVENT
END:VCALENDAR
