BEGIN:VCALENDAR
VERSION:2.0
PRODID:-//hacksw/handcal//NONSGML v1.0//EN
CALSCALE:GREGORIAN
BEGIN:VEVENT
UID:69e6650fe02be
DTSTART:20190711T193000Z
DTSTAMP:20260420T174031Z
DTEND:20190712T193000Z
LOCATION:Osaka
DESCRIPTION:Nano Tenchnology Event
URL;VALUE=URI:https://agriculture.conferenceseries.com/
SUMMARY:13th International Conference on  Agriculture and Plant Scien
 nce
END:VEVENT
END:VCALENDAR
