BEGIN:VCALENDAR
VERSION:2.0
PRODID:-//hacksw/handcal//NONSGML v1.0//EN
CALSCALE:GREGORIAN
BEGIN:VEVENT
UID:69e687265174e
DTSTART:20190310T203000Z
DTSTAMP:20260420T200558Z
DTEND:20190311T203000Z
LOCATION:Nice
DESCRIPTION:Nano Tenchnology Event
URL;VALUE=URI:https://biomaterials.materialsconferences.com/
SUMMARY:13th Annual Conference on  Stem Cell and Biomaterials
END:VEVENT
END:VCALENDAR
