BEGIN:VCALENDAR
VERSION:2.0
PRODID:-//hacksw/handcal//NONSGML v1.0//EN
CALSCALE:GREGORIAN
BEGIN:VEVENT
UID:69e63be1ebb14
DTSTART:20200614T193000Z
DTSTAMP:20260420T144449Z
DTEND:20200615T193000Z
LOCATION:London
DESCRIPTION:Nano Tenchnology Event
URL;VALUE=URI:https://nanomaterials.insightconferences.com/
SUMMARY:33rd International Conference on  Nanomaterials and Nanotechn
 nology
END:VEVENT
END:VCALENDAR
