BEGIN:VCALENDAR
VERSION:2.0
PRODID:-//hacksw/handcal//NONSGML v1.0//EN
CALSCALE:GREGORIAN
BEGIN:VEVENT
UID:69e6650f1700d
DTSTART:20190714T193000Z
DTSTAMP:20260420T174031Z
DTEND:20190715T193000Z
LOCATION:Amsterdam
DESCRIPTION:Nano Tenchnology Event
URL;VALUE=URI:https://petrochemistry.annualcongress.com/
SUMMARY:8th International Conference on  Petro Chemistry and Oil-Gas 
  Marketing
END:VEVENT
END:VCALENDAR
