BEGIN:VCALENDAR
VERSION:2.0
PRODID:-//hacksw/handcal//NONSGML v1.0//EN
CALSCALE:GREGORIAN
BEGIN:VEVENT
UID:69e64fb5cb9ed
DTSTART:20190825T193000Z
DTSTAMP:20260420T160925Z
DTEND:20190826T193000Z
LOCATION:Bangkok
DESCRIPTION:Nano Tenchnology Event
URL;VALUE=URI:https://world.nanotechconferences.org/
SUMMARY:World Congress on  Advanced Nano Research and Nano Tech Appli
 ications
END:VEVENT
END:VCALENDAR
