BEGIN:VCALENDAR
VERSION:2.0
PRODID:-//hacksw/handcal//NONSGML v1.0//EN
CALSCALE:GREGORIAN
BEGIN:VEVENT
UID:69e63c1d76542
DTSTART:20191120T203000Z
DTSTAMP:20260420T144549Z
DTEND:20191121T203000Z
LOCATION:Dubai
DESCRIPTION:Nano Tenchnology Event
URL;VALUE=URI:https://immune.vaccineconferences.com/
SUMMARY:World Conference on Vaccine and Immunology (World Vaccine Mee
 et 2019)
END:VEVENT
END:VCALENDAR
