BEGIN:VCALENDAR
VERSION:2.0
PRODID:-//hacksw/handcal//NONSGML v1.0//EN
CALSCALE:GREGORIAN
BEGIN:VEVENT
UID:69e63bd5bf7b0
DTSTART:20191113T203000Z
DTSTAMP:20260420T144437Z
DTEND:20191114T203000Z
LOCATION:Cape Town
DESCRIPTION:Nano Tenchnology Event
URL;VALUE=URI:https://bioorganic-medicinal.chemistryconferences.org/
SUMMARY:2nd World Congress on  Bioorganic and Medicinal Chemistry
END:VEVENT
END:VCALENDAR
