BEGIN:VCALENDAR
VERSION:2.0
PRODID:-//hacksw/handcal//NONSGML v1.0//EN
CALSCALE:GREGORIAN
BEGIN:VEVENT
UID:69e64a55053a5
DTSTART:20191022T203000Z
DTSTAMP:20260420T154629Z
DTEND:20191024T203000Z
LOCATION:Suzhou
DESCRIPTION:Nano Tenchnology Event
URL;VALUE=URI:http://www.chinanosz.com/
SUMMARY:CHInano 2019 Conference & Expo
END:VEVENT
END:VCALENDAR
