BEGIN:VCALENDAR
VERSION:2.0
PRODID:-//hacksw/handcal//NONSGML v1.0//EN
CALSCALE:GREGORIAN
BEGIN:VEVENT
UID:69e64f98b19ec
DTSTART:20190922T203000Z
DTSTAMP:20260420T160856Z
DTEND:20190923T203000Z
LOCATION:Hong Kong
DESCRIPTION:Nano Tenchnology Event
URL;VALUE=URI:https://carbonmaterials.materialsconferences.com/
SUMMARY:World Congress on  Carbon and Advanced Energy Materials
END:VEVENT
END:VCALENDAR
