BEGIN:VCALENDAR
VERSION:2.0
PRODID:-//hacksw/handcal//NONSGML v1.0//EN
CALSCALE:GREGORIAN
BEGIN:VEVENT
UID:69e7a7cb22112
DTSTART:20200703T193000Z
DTSTAMP:20260421T163731Z
DTEND:20200710T193000Z
LOCATION:Thessaloniki
DESCRIPTION:Nano Tenchnology Event
URL;VALUE=URI:https://www.nanotexnology.com/
SUMMARY:NANOTEXNOLOGY 2020
END:VEVENT
END:VCALENDAR
