BEGIN:VCALENDAR
VERSION:2.0
PRODID:-//hacksw/handcal//NONSGML v1.0//EN
CALSCALE:GREGORIAN
BEGIN:VEVENT
UID:69e7a7cc39df5
DTSTART:20200705T193000Z
DTSTAMP:20260421T163732Z
DTEND:20200708T193000Z
LOCATION:Thessaloniki
DESCRIPTION:Nano Tenchnology Event
URL;VALUE=URI:https://www.nanotexnology.com/index.php/isfoe
SUMMARY:13th International Symposium on Flexible Organic Electronics 
  (ISFOE20)
END:VEVENT
END:VCALENDAR
