BEGIN:VCALENDAR
VERSION:2.0
PRODID:-//hacksw/handcal//NONSGML v1.0//EN
CALSCALE:GREGORIAN
BEGIN:VEVENT
UID:69e7a7caa5087
DTSTART:20200706T193000Z
DTSTAMP:20260421T163730Z
DTEND:20200709T193000Z
LOCATION:Thessaloniki
DESCRIPTION:Nano Tenchnology Event
URL;VALUE=URI:https://www.nanotexnology.com/index.php/nn
SUMMARY:17th International Conference on Nanosciences &amp\; Nanotech
 hnologies (NN20)
END:VEVENT
END:VCALENDAR
