BEGIN:VCALENDAR
VERSION:2.0
PRODID:-//hacksw/handcal//NONSGML v1.0//EN
CALSCALE:GREGORIAN
BEGIN:VEVENT
UID:69e7a7c4a6ea4
DTSTART:20200707T193000Z
DTSTAMP:20260421T163724Z
DTEND:20200708T193000Z
LOCATION:Thessaloniki
DESCRIPTION:Nano Tenchnology Event
URL;VALUE=URI:https://www.nanotexnology.com/index.php/i3d
SUMMARY:3rd International Conference on 3D Printing\, 3D Bioprinting\
 \, Digital &amp\; Additive Manufacturing (I3D20)
END:VEVENT
END:VCALENDAR
