BEGIN:VCALENDAR
VERSION:2.0
PRODID:-//hacksw/handcal//NONSGML v1.0//EN
CALSCALE:GREGORIAN
BEGIN:VEVENT
UID:69e7a7cb5b2f4
DTSTART:20200703T193000Z
DTSTAMP:20260421T163731Z
DTEND:20200710T193000Z
LOCATION:Thessaloniki
DESCRIPTION:Nano Tenchnology Event
URL;VALUE=URI:https://www.nanotexnology.com/index.php/isson
SUMMARY:14th International Summer Schools on Nanosciences &amp\; Nano
 otechnologies\, Organic Electronics &amp\; Nanomedicine (ISSON20)
END:VEVENT
END:VCALENDAR
