BEGIN:VCALENDAR
VERSION:2.0
PRODID:-//hacksw/handcal//NONSGML v1.0//EN
CALSCALE:GREGORIAN
BEGIN:VEVENT
UID:69e7a7c4882b3
DTSTART:20200705T193000Z
DTSTAMP:20260421T163724Z
DTEND:20200709T193000Z
LOCATION:Thessaloniki
DESCRIPTION:Nano Tenchnology Event
URL;VALUE=URI:https://www.nanotexnology.com/index.php/expo
SUMMARY:10th International Exhibition on Nanotechnologies\, Organic E
 Electronics &amp\; Nanomedicine (EXPO 20)
END:VEVENT
END:VCALENDAR
