BEGIN:VCALENDAR
VERSION:2.0
PRODID:-//hacksw/handcal//NONSGML v1.0//EN
CALSCALE:GREGORIAN
BEGIN:VEVENT
UID:69e7a7bf41a70
DTSTART:20200706T193000Z
DTSTAMP:20260421T163719Z
DTEND:20200708T193000Z
LOCATION:Thessaloniki
DESCRIPTION:Nano Tenchnology Event
URL;VALUE=URI:https://www.nanotexnology.com/index.php/about-business-
 -forum
SUMMARY:NANOTEXNOLOGY 2020 Business Forum
END:VEVENT
END:VCALENDAR
